BEGIN:VCALENDAR
VERSION:2.0
PRODID:-//Qualiti Vida Studio e Cursos - ECPv6.15.20//NONSGML v1.0//EN
CALSCALE:GREGORIAN
METHOD:PUBLISH
X-WR-CALNAME:Qualiti Vida Studio e Cursos
X-ORIGINAL-URL:https://qualitividacursos.com.br
X-WR-CALDESC:Eventos para Qualiti Vida Studio e Cursos
REFRESH-INTERVAL;VALUE=DURATION:PT1H
X-Robots-Tag:noindex
X-PUBLISHED-TTL:PT1H
BEGIN:VTIMEZONE
TZID:America/Sao_Paulo
BEGIN:STANDARD
TZOFFSETFROM:-0300
TZOFFSETTO:-0300
TZNAME:-03
DTSTART:20250101T000000
END:STANDARD
END:VTIMEZONE
BEGIN:VEVENT
DTSTART;TZID=America/Sao_Paulo:20260119T190000
DTEND;TZID=America/Sao_Paulo:20260216T220000
DTSTAMP:20260419T225433
CREATED:20250517T112536Z
LAST-MODIFIED:20251216T220513Z
UID:2005-1768849200-1771279200@qualitividacursos.com.br
SUMMARY:Curso de Massagem Oriental
DESCRIPTION:Curso de Massagem Oriental \nO curso se baseia nas tradições terapêuticas antigas\, proporcionando aos alunos uma experiência única de aprendizado. Se você busca aprofundar seus conhecimentos em terapias holísticas e complementares\, esta é a oportunidade de descobrir as técnicas e benefícios excepcionais da massagem oriental. \nDias de 19/01 a 16/02– horário das 19h às 22h\nInvestimento: R$440\,00 ou 5x com juros\n \n 
URL:https://qualitividacursos.com.br/programacao/curso-de-massagem-oriental-2/
ATTACH;FMTTYPE=image/png:https://qualitividacursos.com.br/wp-content/uploads/2024/04/9-Massagem-Oriental.png
END:VEVENT
BEGIN:VEVENT
DTSTART;TZID=America/Sao_Paulo:20260207T090000
DTEND;TZID=America/Sao_Paulo:20260215T170000
DTSTAMP:20260419T225433
CREATED:20251218T084828Z
LAST-MODIFIED:20251218T085030Z
UID:2764-1770454800-1771174800@qualitividacursos.com.br
SUMMARY:Curso livre Intensivo de Massoterapia
DESCRIPTION:Formação Prática em Técnicas de Massagens Terapêuticas. \nO Curso Livre Intensivo de Massoterapia foi desenvolvido para pessoas interessadas em ingressar na área do bem-estar\, saúde e terapias manuais. Com foco em técnicas de massagens terapêuticas\, o curso proporciona uma formação abrangente\, aliando teoria e prática para capacitar profissionais aptos a oferecer atendimentos qualificados. \n  \nDias 07 a 15/02 – horário das 09h às 17h \nInvestimento do curso é de R$ 1.725\,00\, podendo ser parcelado em até 10 vezes c/ Juros no cartão de crédito.\nO material didático básico está incluso.
URL:https://qualitividacursos.com.br/programacao/curso-livre-intensivo-de-massoterapia/
ATTACH;FMTTYPE=image/jpeg:https://qualitividacursos.com.br/wp-content/uploads/2025/12/Curso-Livre-Intensivo-de-Massoterapia-e1766047804677.jpg
END:VEVENT
END:VCALENDAR