BEGIN:VCALENDAR
VERSION:2.0
PRODID:-//Qualiti Vida Studio e Cursos - ECPv6.15.20//NONSGML v1.0//EN
CALSCALE:GREGORIAN
METHOD:PUBLISH
X-ORIGINAL-URL:https://qualitividacursos.com.br
X-WR-CALDESC:Eventos para Qualiti Vida Studio e Cursos
REFRESH-INTERVAL;VALUE=DURATION:PT1H
X-Robots-Tag:noindex
X-PUBLISHED-TTL:PT1H
BEGIN:VTIMEZONE
TZID:America/Sao_Paulo
BEGIN:STANDARD
TZOFFSETFROM:-0300
TZOFFSETTO:-0300
TZNAME:-03
DTSTART:20250101T000000
END:STANDARD
END:VTIMEZONE
BEGIN:VEVENT
DTSTART;TZID=America/Sao_Paulo:20260221T090000
DTEND;TZID=America/Sao_Paulo:20260222T170000
DTSTAMP:20260419T225246
CREATED:20250423T182658Z
LAST-MODIFIED:20251217T215443Z
UID:1946-1771664400-1771779600@qualitividacursos.com.br
SUMMARY:Curso de Auriculoterapia
DESCRIPTION:Curso de auriculoterapia \nEste curso irá capacitar os alunos a desvendar o pavilhão auricular (mapa da orelha) e aplicar técnicas específicas para aliviar dores e promover equilíbrio tanto físico quanto emocional. Este curso oferece uma imersão profunda na prática curativa da auriculoterapia chinesa\, conectando os pontos entre a orelha e o bem-estar global. \ndias 21 e 22/02 – das 9h às 17h\nInvestimento: R$440\,00 ou 5x com juros  \n 
URL:https://qualitividacursos.com.br/programacao/curso-de-auriculoterapia/
ATTACH;FMTTYPE=image/png:https://qualitividacursos.com.br/wp-content/uploads/2024/04/curso-Auriculoterapia-chinesa.png
END:VEVENT
END:VCALENDAR