BEGIN:VCALENDAR
VERSION:2.0
PRODID:-//Qualiti Vida Studio e Cursos - ECPv6.15.20//NONSGML v1.0//EN
CALSCALE:GREGORIAN
METHOD:PUBLISH
X-ORIGINAL-URL:https://qualitividacursos.com.br
X-WR-CALDESC:Eventos para Qualiti Vida Studio e Cursos
REFRESH-INTERVAL;VALUE=DURATION:PT1H
X-Robots-Tag:noindex
X-PUBLISHED-TTL:PT1H
BEGIN:VTIMEZONE
TZID:America/Sao_Paulo
BEGIN:STANDARD
TZOFFSETFROM:-0300
TZOFFSETTO:-0300
TZNAME:-03
DTSTART:20250101T000000
END:STANDARD
END:VTIMEZONE
BEGIN:VEVENT
DTSTART;TZID=America/Sao_Paulo:20260601T090000
DTEND;TZID=America/Sao_Paulo:20260614T170000
DTSTAMP:20260419T205706
CREATED:20251218T093310Z
LAST-MODIFIED:20260415T205548Z
UID:2768-1780304400-1781456400@qualitividacursos.com.br
SUMMARY:Curso livre Intensivo de Massoterapia
DESCRIPTION:Formação Prática em Técnicas de Massagens Terapêuticas. \nO Curso Livre Intensivo de Massoterapia foi desenvolvido para pessoas interessadas em ingressar na área do bem-estar\, saúde e terapias manuais. Com foco em técnicas de massagens terapêuticas\, o curso proporciona uma formação abrangente\, aliando teoria e prática para capacitar profissionais aptos a oferecer atendimentos qualificados. \n  \nInício de 06 a 14/06 das 09h às 17h. \nInvestimento do curso é de R$ 1.725\,00\, podendo ser parcelado em até 10 vezes c/ Juros no cartão de crédito.\nO material didático básico está incluso.
URL:https://qualitividacursos.com.br/programacao/curso-livre-intensivo-de-massoterapia-2/
ATTACH;FMTTYPE=image/jpeg:https://qualitividacursos.com.br/wp-content/uploads/2025/12/Curso-Livre-Intensivo-de-Massoterapia-e1766047804677.jpg
END:VEVENT
BEGIN:VEVENT
DTSTART;TZID=America/Sao_Paulo:20260606T090000
DTEND;TZID=America/Sao_Paulo:20260607T170000
DTSTAMP:20260419T205706
CREATED:20250823T112008Z
LAST-MODIFIED:20260413T170507Z
UID:2285-1780736400-1780851600@qualitividacursos.com.br
SUMMARY:Curso de Kinesio Taping
DESCRIPTION:Kinesio Taping – Curso de Bandagem terapêutica \nO curso de Kinesio Taping\, trás uma abordagem inovadora que tem revolucionado o campo da reabilitação e do tratamento físico. Se você busca uma compreensão profunda desta técnica eficiente\, nosso curso oferece a oportunidade de mergulhar nas aplicações práticas e nos benefícios terapêuticos do Kinesio Taping. \nDias 06 e 07/06\ndas 9h às 17h\nInvestimento: R$440\,00 ou 5x com juros\n \n 
URL:https://qualitividacursos.com.br/programacao/curso-de-kinesio-taping-5/
ATTACH;FMTTYPE=image/png:https://qualitividacursos.com.br/wp-content/uploads/2024/04/6-Kinesio-Taping-Curso-de-Bandagem-terapeutica.png
END:VEVENT
BEGIN:VEVENT
DTSTART;TZID=America/Sao_Paulo:20260606T090000
DTEND;TZID=America/Sao_Paulo:20260607T170000
DTSTAMP:20260419T205706
CREATED:20251218T093452Z
LAST-MODIFIED:20260415T205710Z
UID:2771-1780736400-1780851600@qualitividacursos.com.br
SUMMARY:Curso de Massagem Oriental
DESCRIPTION:Curso de Massagem Oriental \nO curso se baseia nas tradições terapêuticas antigas\, proporcionando aos alunos uma experiência única de aprendizado. Se você busca aprofundar seus conhecimentos em terapias holísticas e complementares\, esta é a oportunidade de descobrir as técnicas e benefícios excepcionais da massagem oriental. \nDias 06 e 07/06 – horário das 09h às 17h\nInvestimento: R$440\,00 ou 5x com juros\n \n 
URL:https://qualitividacursos.com.br/programacao/curso-de-massagem-oriental-3/
ATTACH;FMTTYPE=image/png:https://qualitividacursos.com.br/wp-content/uploads/2024/04/9-Massagem-Oriental.png
END:VEVENT
END:VCALENDAR