BEGIN:VCALENDAR
VERSION:2.0
PRODID:-//Qualiti Vida Studio e Cursos - ECPv6.15.20//NONSGML v1.0//EN
CALSCALE:GREGORIAN
METHOD:PUBLISH
X-WR-CALNAME:Qualiti Vida Studio e Cursos
X-ORIGINAL-URL:https://qualitividacursos.com.br
X-WR-CALDESC:Eventos para Qualiti Vida Studio e Cursos
REFRESH-INTERVAL;VALUE=DURATION:PT1H
X-Robots-Tag:noindex
X-PUBLISHED-TTL:PT1H
BEGIN:VTIMEZONE
TZID:America/Sao_Paulo
BEGIN:STANDARD
TZOFFSETFROM:-0300
TZOFFSETTO:-0300
TZNAME:-03
DTSTART:20250101T000000
END:STANDARD
END:VTIMEZONE
BEGIN:VEVENT
DTSTART;TZID=America/Sao_Paulo:20260421T090000
DTEND;TZID=America/Sao_Paulo:20260428T170000
DTSTAMP:20260419T130017
CREATED:20251217T215146Z
LAST-MODIFIED:20260324T105613Z
UID:2730-1776762000-1777395600@qualitividacursos.com.br
SUMMARY:Curso de Drenagem Linfática Manual
DESCRIPTION:Curso de Drenagem Linfática Manual \nA drenagem linfática manual (DLM) é uma técnica de massagem suave e ritmada\, que tem como principal objetivo estimular o funcionamento do sistema linfático\, responsável por eliminar o excesso de líquidos\, toxinas\, resíduos metabólicos e impurezas do organismo. \nDias 21\, 23\, 28/04\nHorário dia 21 das 9h às 17h e dias 23 e 28/04 horário das 9h às 13h. \nInvestimento: :$500\,00 ou 5x com juros\n \n 
URL:https://qualitividacursos.com.br/programacao/curso-de-drenagem-linfatica-manual/
ATTACH;FMTTYPE=image/jpeg:https://qualitividacursos.com.br/wp-content/uploads/2025/05/Drenagem-Linfatica.jpg
END:VEVENT
END:VCALENDAR