BEGIN:VCALENDAR
VERSION:2.0
PRODID:-//Qualiti Vida Studio e Cursos - ECPv6.15.20//NONSGML v1.0//EN
CALSCALE:GREGORIAN
METHOD:PUBLISH
X-WR-CALNAME:Qualiti Vida Studio e Cursos
X-ORIGINAL-URL:https://qualitividacursos.com.br
X-WR-CALDESC:Eventos para Qualiti Vida Studio e Cursos
REFRESH-INTERVAL;VALUE=DURATION:PT1H
X-Robots-Tag:noindex
X-PUBLISHED-TTL:PT1H
BEGIN:VTIMEZONE
TZID:America/Sao_Paulo
BEGIN:STANDARD
TZOFFSETFROM:-0300
TZOFFSETTO:-0300
TZNAME:-03
DTSTART:20250101T000000
END:STANDARD
END:VTIMEZONE
BEGIN:VEVENT
DTSTART;TZID=America/Sao_Paulo:20260425T090000
DTEND;TZID=America/Sao_Paulo:20260426T170000
DTSTAMP:20260419T112121
CREATED:20240403T110416Z
LAST-MODIFIED:20260324T110757Z
UID:777-1777107600-1777222800@qualitividacursos.com.br
SUMMARY:Curso de Kinesio Taping
DESCRIPTION:Kinesio Taping – Curso de Bandagem terapêutica \nO curso de Kinesio Taping\, trás uma abordagem inovadora que tem revolucionado o campo da reabilitação e do tratamento físico. Se você busca uma compreensão profunda desta técnica eficiente\, nosso curso oferece a oportunidade de mergulhar nas aplicações práticas e nos benefícios terapêuticos do Kinesio Taping. \nDias 25 e 26/04\nHorário das 9h às 17h. \nInvestimento: R$440\,00 ou 5x com juros\n \n 
URL:https://qualitividacursos.com.br/programacao/curso-de-kinesio-taping-2/
ATTACH;FMTTYPE=image/png:https://qualitividacursos.com.br/wp-content/uploads/2024/04/6-Kinesio-Taping-Curso-de-Bandagem-terapeutica.png
END:VEVENT
END:VCALENDAR