BEGIN:VCALENDAR
VERSION:2.0
PRODID:-//Qualiti Vida Studio e Cursos - ECPv6.15.20//NONSGML v1.0//EN
CALSCALE:GREGORIAN
METHOD:PUBLISH
X-WR-CALNAME:Qualiti Vida Studio e Cursos
X-ORIGINAL-URL:https://qualitividacursos.com.br
X-WR-CALDESC:Eventos para Qualiti Vida Studio e Cursos
REFRESH-INTERVAL;VALUE=DURATION:PT1H
X-Robots-Tag:noindex
X-PUBLISHED-TTL:PT1H
BEGIN:VTIMEZONE
TZID:America/Sao_Paulo
BEGIN:STANDARD
TZOFFSETFROM:-0300
TZOFFSETTO:-0300
TZNAME:-03
DTSTART:20250101T000000
END:STANDARD
END:VTIMEZONE
BEGIN:VEVENT
DTSTART;TZID=America/Sao_Paulo:20260117T090000
DTEND;TZID=America/Sao_Paulo:20260118T170000
DTSTAMP:20260419T211734
CREATED:20240403T112246Z
LAST-MODIFIED:20251216T220501Z
UID:797-1768640400-1768755600@qualitividacursos.com.br
SUMMARY:Curso de Massagem Oriental
DESCRIPTION:Curso de Massagem Oriental \nO curso se baseia nas tradições terapêuticas antigas\, proporcionando aos alunos uma experiência única de aprendizado. Se você busca aprofundar seus conhecimentos em terapias holísticas e complementares\, esta é a oportunidade de descobrir as técnicas e benefícios excepcionais da massagem oriental. \nDias 17 e 18/01 – das 9h às 17h\nInvestimento: R$440\,00 ou 5x com juros  \n 
URL:https://qualitividacursos.com.br/programacao/curso-de-massagem-oriental/
ATTACH;FMTTYPE=image/png:https://qualitividacursos.com.br/wp-content/uploads/2024/04/9-Massagem-Oriental.png
END:VEVENT
END:VCALENDAR