BEGIN:VCALENDAR
VERSION:2.0
PRODID:-//Qualiti Vida Studio e Cursos - ECPv6.15.20//NONSGML v1.0//EN
CALSCALE:GREGORIAN
METHOD:PUBLISH
X-WR-CALNAME:Qualiti Vida Studio e Cursos
X-ORIGINAL-URL:https://qualitividacursos.com.br
X-WR-CALDESC:Eventos para Qualiti Vida Studio e Cursos
REFRESH-INTERVAL;VALUE=DURATION:PT1H
X-Robots-Tag:noindex
X-PUBLISHED-TTL:PT1H
BEGIN:VTIMEZONE
TZID:America/Sao_Paulo
BEGIN:STANDARD
TZOFFSETFROM:-0300
TZOFFSETTO:-0300
TZNAME:-03
DTSTART:20250101T000000
END:STANDARD
END:VTIMEZONE
BEGIN:VEVENT
DTSTART;TZID=America/Sao_Paulo:20260502T090000
DTEND;TZID=America/Sao_Paulo:20260502T170000
DTSTAMP:20260419T112035
CREATED:20251218T093800Z
LAST-MODIFIED:20260413T155512Z
UID:2777-1777712400-1777741200@qualitividacursos.com.br
SUMMARY:Curso de Quick Massage
DESCRIPTION:Curso de Quick Massage \nO Curso de Quick Massage\, apresenta uma abordagem rápida eficaz para alívio do estresse e relaxamento muscular em um curto período de tempo. Este curso prático capacitará os participantes a dominar as técnicas da Quick Massage\, proporcionando bem-estar imediato aos clientes. \nDia Dia: 02/05\nHorário: 9h às 17h. \nInvestimento: R$350\,00 ou 5x com juros  \n 
URL:https://qualitividacursos.com.br/programacao/curso-de-quick-massage-2/
ATTACH;FMTTYPE=image/png:https://qualitividacursos.com.br/wp-content/uploads/2024/04/11-Quick-Massage.png
END:VEVENT
END:VCALENDAR