BEGIN:VCALENDAR
VERSION:2.0
PRODID:-//Qualiti Vida Studio e Cursos - ECPv6.15.20//NONSGML v1.0//EN
CALSCALE:GREGORIAN
METHOD:PUBLISH
X-WR-CALNAME:Qualiti Vida Studio e Cursos
X-ORIGINAL-URL:https://qualitividacursos.com.br
X-WR-CALDESC:Eventos para Qualiti Vida Studio e Cursos
REFRESH-INTERVAL;VALUE=DURATION:PT1H
X-Robots-Tag:noindex
X-PUBLISHED-TTL:PT1H
BEGIN:VTIMEZONE
TZID:America/Sao_Paulo
BEGIN:STANDARD
TZOFFSETFROM:-0300
TZOFFSETTO:-0300
TZNAME:-03
DTSTART:20250101T000000
END:STANDARD
END:VTIMEZONE
BEGIN:VEVENT
DTSTART;TZID=America/Sao_Paulo:20260509T090000
DTEND;TZID=America/Sao_Paulo:20260524T170000
DTSTAMP:20260419T112206
CREATED:20240403T111250Z
LAST-MODIFIED:20260415T215221Z
UID:789-1778317200-1779642000@qualitividacursos.com.br
SUMMARY:Curso de Shiatsuterapia
DESCRIPTION:Curso de Massagem Shiatsuterapia \nConvidamos você a embarcar em uma jornada única de autodescoberta e cuidados terapêuticos com o nosso Curso de Shiatsuterapia. Este curso mergulha nos princípios da terapia oriental\, proporcionando aos alunos a oportunidade de dominar a arte do toque através do Shiatsu\, uma prática que equilibra o corpo e a mente. \nDias 09\, 10\, 23 e 24/05\nHorário das 9h às 17h \n 
URL:https://qualitividacursos.com.br/programacao/curso-de-shiatsuterapia/
ATTACH;FMTTYPE=image/png:https://qualitividacursos.com.br/wp-content/uploads/2024/03/Shiatsuterapia-e1776289924877.png
END:VEVENT
END:VCALENDAR