BEGIN:VCALENDAR
VERSION:2.0
PRODID:-//Qualiti Vida Studio e Cursos - ECPv6.15.20//NONSGML v1.0//EN
CALSCALE:GREGORIAN
METHOD:PUBLISH
X-WR-CALNAME:Qualiti Vida Studio e Cursos
X-ORIGINAL-URL:https://qualitividacursos.com.br
X-WR-CALDESC:Eventos para Qualiti Vida Studio e Cursos
REFRESH-INTERVAL;VALUE=DURATION:PT1H
X-Robots-Tag:noindex
X-PUBLISHED-TTL:PT1H
BEGIN:VTIMEZONE
TZID:America/Sao_Paulo
BEGIN:STANDARD
TZOFFSETFROM:-0300
TZOFFSETTO:-0300
TZNAME:-03
DTSTART:20250101T000000
END:STANDARD
END:VTIMEZONE
BEGIN:VEVENT
DTSTART;TZID=America/Sao_Paulo:20260315T090000
DTEND;TZID=America/Sao_Paulo:20260315T170000
DTSTAMP:20260419T192709
CREATED:20251218T094110Z
LAST-MODIFIED:20260124T201223Z
UID:2783-1773565200-1773594000@qualitividacursos.com.br
SUMMARY:Curso de Ventosaterapia
DESCRIPTION:Curso de Ventosaterapia \nUtilizando copos de vidro ou acrílico que criam vácuo na pele\, essa prática visa promover a circulação sanguínea\, aliviar tensões musculares e estimular a energia vital do corpo. \nDia 15/03– horário das 09h às 17h\nInvestimento: R$350\,00 ou 5x com juros\n \n  \n  \n 
URL:https://qualitividacursos.com.br/programacao/curso-de-ventosaterapia-4/
ATTACH;FMTTYPE=image/png:https://qualitividacursos.com.br/wp-content/uploads/2024/04/3-Curso-de-Ventosaterapia.png
END:VEVENT
END:VCALENDAR