BEGIN:VCALENDAR
VERSION:2.0
PRODID:-//Qualiti Vida Studio e Cursos - ECPv6.15.20//NONSGML v1.0//EN
CALSCALE:GREGORIAN
METHOD:PUBLISH
X-ORIGINAL-URL:https://qualitividacursos.com.br
X-WR-CALDESC:Eventos para Qualiti Vida Studio e Cursos
REFRESH-INTERVAL;VALUE=DURATION:PT1H
X-Robots-Tag:noindex
X-PUBLISHED-TTL:PT1H
BEGIN:VTIMEZONE
TZID:America/Sao_Paulo
BEGIN:STANDARD
TZOFFSETFROM:-0300
TZOFFSETTO:-0300
TZNAME:-03
DTSTART:20250101T000000
END:STANDARD
END:VTIMEZONE
BEGIN:VEVENT
DTSTART;TZID=America/Sao_Paulo:20260608T090000
DTEND;TZID=America/Sao_Paulo:20260622T130000
DTSTAMP:20260419T224657
CREATED:20251218T094218Z
LAST-MODIFIED:20260413T160813Z
UID:2786-1780909200-1782133200@qualitividacursos.com.br
SUMMARY:Curso de Aromaterapia
DESCRIPTION:Curso de Aromaterapia \nNosso curso é ministrado por uma profissional experiente em aromaterapia clínica e química\, com mais de 18 anos de atuação no campo. Aqui na Qualiti Vida\, estamos comprometidos em fornecer uma educação abrangente e prática para aqueles que desejam explorar os benefícios terapêuticos dos óleos essenciais e extratos botânicos. \nDias 08\, 15 e 22/06 –  das 9h às 13h\nInvestimento: :$493\,00 ou 5x com juros\n \n 
URL:https://qualitividacursos.com.br/programacao/curso-de-aromaterapia-2/
ATTACH;FMTTYPE=image/png:https://qualitividacursos.com.br/wp-content/uploads/2024/04/1-Curso-de-Aromaterapia.png
END:VEVENT
BEGIN:VEVENT
DTSTART;TZID=America/Sao_Paulo:20260620T140000
DTEND;TZID=America/Sao_Paulo:20260621T170000
DTSTAMP:20260419T224657
CREATED:20251217T220105Z
LAST-MODIFIED:20260413T170308Z
UID:2750-1781964000-1782061200@qualitividacursos.com.br
SUMMARY:Curso de Reflexologia Podal
DESCRIPTION:Curso de Reflexologia Podal \nEste curso prático e envolvente capacitará os alunos a estimular pontos específicos nos pés\, promovendo o equilíbrio energético e o bem-estar. \nDias 20 e 21/06\nhorário das 14h às 17h\nInvestimento: R$440\,00 ou 5x com juros\n \n 
URL:https://qualitividacursos.com.br/programacao/curso-de-reflexologia-podal-3/
ATTACH;FMTTYPE=image/png:https://qualitividacursos.com.br/wp-content/uploads/2024/04/Curso-de-reflexologia-Podal.png
END:VEVENT
BEGIN:VEVENT
DTSTART;TZID=America/Sao_Paulo:20260627T090000
DTEND;TZID=America/Sao_Paulo:20260628T170000
DTSTAMP:20260419T224657
CREATED:20250225T201718Z
LAST-MODIFIED:20260413T170746Z
UID:1895-1782550800-1782666000@qualitividacursos.com.br
SUMMARY:Curso Quiropraxia I - Manobras Manipulativas
DESCRIPTION:Curso Quiropraxia I – Manobras Manipulativas \nNa prática\, a QUIROPRAXIA consiste na detecção e correção manual destas anormalidades de alinhamento e movimento\, bem como no ajustamento articular. Os nervos\, assim liberados\, voltam a conduzir de modo normal os impulsos nervosos antes comprometidos\, restaurando a saúde do organismo. São ainda utilizadas outras terapias \, como a massagem \, exercícios\, orientação postural e nutricional conforme o caso. \nNo Curso iremos ver as seguintes manobras quiropráticas e osteopáticas :\nParte 01- Manobras Cervicais \,\nParte 02- Manobras Torácicas \,\nParte 03- Manobras Lombares\,\nParte 04- Manobras Sacro Ilíacas e Cintura Pélvica\,\nParte 05- Manobras Coxo Femurais \,\nParte 06- Manobras dos Membros Inferiores\,\nParte 07- Manobras dos Membros Superiores e Cintura Escapular. \nDias 27 e 28/06\nHorário: 9h às 17h. \nInvestimento:\nInvestimento: R$1.150\,00 à vista ou em até 5/10x com juros\n \n 
URL:https://qualitividacursos.com.br/programacao/curso-quiropraxia-i-manobras-manipulativas-2/
ATTACH;FMTTYPE=image/png:https://qualitividacursos.com.br/wp-content/uploads/2024/04/5-Cursos-de-Quiropraxia.png
END:VEVENT
BEGIN:VEVENT
DTSTART;TZID=America/Sao_Paulo:20260627T090000
DTEND;TZID=America/Sao_Paulo:20260731T170000
DTSTAMP:20260419T224657
CREATED:20260413T170643Z
LAST-MODIFIED:20260413T170643Z
UID:2941-1782550800-1785517200@qualitividacursos.com.br
SUMMARY:Combo de Quiro Sacral | Intensivo Quiropraxia e Crânio Sacral
DESCRIPTION:Combo de Quiro Sacral | Intensivo Quiropraxia e Crânio Sacral \nNo Curso iremos ver as seguintes manobras quiropráticas e osteopáticas:\nParte 01- Manobras Cervicais \,\nParte 02- Manobras Torácicas \,\nParte 03- Manobras Lombares\,\nParte 04- Manobras Sacro Ilíacas e Cintura Pélvica\,\nParte 05- Manobras Coxo Femorais \,\nParte 06- Manobras dos Membros Inferiores\,\nParte 07- Manobras dos Membros Superiores e Cintura Escapular.\nParte 8 – Manobras articulares.\nParte 9 – Terapia Crânio Sacral. \nTotalizando 60h de curso com 250 manobras \nDias 27 a 31/06\nHorário: 9h às 17h.\n. \nInvestimento:\n– R$ 2270\,00 à vista ou em até 5/10x com juros\n– Inscrições até 15 dias antes: R$ 1870\,00 à vista ou em até 5/10x com juros (desconto promocional) \nGaranta já sua reserva! \n  \n 
URL:https://qualitividacursos.com.br/programacao/combo-de-quiro-sacral-intensivo-quiropraxia-e-cranio-sacral-3/
ATTACH;FMTTYPE=image/jpeg:https://qualitividacursos.com.br/wp-content/uploads/2025/12/Curso-de-Cranio-Sacral-ou-Bio-Cranial-e1766070701992.jpg
END:VEVENT
BEGIN:VEVENT
DTSTART;TZID=America/Sao_Paulo:20260629T090000
DTEND;TZID=America/Sao_Paulo:20260629T170000
DTSTAMP:20260419T224657
CREATED:20250225T202550Z
LAST-MODIFIED:20260415T214150Z
UID:1891-1782723600-1782752400@qualitividacursos.com.br
SUMMARY:Curso de Crânio Sacral ou Bio Cranial
DESCRIPTION:Curso de Crânio Sacral ou Bio Cranial \nÉ uma que provém da Osteopatia com uma abordagem holística que visa a tratativa do sistema crânio sacro através de toques suaves e manipulações precisas dos ossos da cabeça\, reequilibrando o funcionamento do Sistema Nervoso Central e Autônomo. \nNo Curso iremos ver as seguintes manobras quiropráticas e osteopáticas : \n1- Exercícios de sensibilidade do IRC (Impulso Ritmo Craniano);\n2- Manobras gerais de circulação sanguínea craniana;\n3- Flutuação longitudinal e transversal do liquor;\n4- Liberação das suturas cranianas;\n5- Drenagem de congestão intracranianas;\n6- Descompressão e exercícios para ATM (Articulação Temporo Mandibular); \nDia 29/06\nHorário das 9h às 17h. \nInvestimento: R$950\,00a vista ou 6x c/ juros ou 12x c/juros
URL:https://qualitividacursos.com.br/programacao/curso-de-cranio-sacral-ou-bio-cranial/
ATTACH;FMTTYPE=image/jpeg:https://qualitividacursos.com.br/wp-content/uploads/2025/12/Curso-de-Cranio-Sacral-ou-Bio-Cranial-e1766070701992.jpg
END:VEVENT
BEGIN:VEVENT
DTSTART;TZID=America/Sao_Paulo:20260630T090000
DTEND;TZID=America/Sao_Paulo:20260701T170000
DTSTAMP:20260419T224657
CREATED:20260413T171000Z
LAST-MODIFIED:20260413T171000Z
UID:2946-1782810000-1782925200@qualitividacursos.com.br
SUMMARY:Curso Quiropraxia II – Manobras Articulares complementares
DESCRIPTION:Curso Quiropraxia II – Manobras Articulares complementares \nEstaremos neste curso\, acrescentando outras manobras que não foram vistas no curso de Quiropraxia\, para ajudar na tratativa do cliente\, sendo que veremos pela ordem: Cervical\, torácica\, lombar\, cintura pélvica\, membros inferiores e superiores\, através das técnicas; \nNo Curso iremos ver as seguintes manobras quiropráticas e osteopáticas :\n1 – Técnicas da Artrocinemática\n2 – Técnicas de energia neuromuscular.\n3 – Técnicas de liberação miofascial voltada as articulações.\n4- Técnicas de mobilizações articulares da osteocinemática. \n  \nDias 30 e 31/06\nHorário: 9h às 17h. \nInvestimento: R$1.150\,00 à vista ou em até 5/10x com juros
URL:https://qualitividacursos.com.br/programacao/curso-quiropraxia-ii-manobras-articulares-complementares-3/
ATTACH;FMTTYPE=image/png:https://qualitividacursos.com.br/wp-content/uploads/2024/04/5-Cursos-de-Quiropraxia.png
END:VEVENT
END:VCALENDAR