BEGIN:VCALENDAR
VERSION:2.0
PRODID:-//Qualiti Vida Studio e Cursos - ECPv6.15.20//NONSGML v1.0//EN
CALSCALE:GREGORIAN
METHOD:PUBLISH
X-ORIGINAL-URL:https://qualitividacursos.com.br
X-WR-CALDESC:Eventos para Qualiti Vida Studio e Cursos
REFRESH-INTERVAL;VALUE=DURATION:PT1H
X-Robots-Tag:noindex
X-PUBLISHED-TTL:PT1H
BEGIN:VTIMEZONE
TZID:America/Sao_Paulo
BEGIN:STANDARD
TZOFFSETFROM:-0300
TZOFFSETTO:-0300
TZNAME:-03
DTSTART:20240101T000000
END:STANDARD
END:VTIMEZONE
BEGIN:VEVENT
DTSTART;TZID=America/Sao_Paulo:20251012T090000
DTEND;TZID=America/Sao_Paulo:20251012T170000
DTSTAMP:20260420T035926
CREATED:20240403T111417Z
LAST-MODIFIED:20250826T214154Z
UID:791-1760259600-1760288400@qualitividacursos.com.br
SUMMARY:Curso de Ventosaterapia
DESCRIPTION:Curso de Ventosaterapia \nUtilizando copos de vidro ou acrílico que criam vácuo na pele\, essa prática visa promover a circulação sanguínea\, aliviar tensões musculares e estimular a energia vital do corpo. \nDia 12/10 – das 9h às 17h\n \n 
URL:https://qualitividacursos.com.br/programacao/curso-de-ventosaterapia-2/
ATTACH;FMTTYPE=image/png:https://qualitividacursos.com.br/wp-content/uploads/2024/04/3-Curso-de-Ventosaterapia.png
END:VEVENT
END:VCALENDAR