BEGIN:VCALENDAR
VERSION:2.0
PRODID:-//Qualiti Vida Studio e Cursos - ECPv6.15.20//NONSGML v1.0//EN
CALSCALE:GREGORIAN
METHOD:PUBLISH
X-WR-CALNAME:Qualiti Vida Studio e Cursos
X-ORIGINAL-URL:https://qualitividacursos.com.br
X-WR-CALDESC:Eventos para Qualiti Vida Studio e Cursos
REFRESH-INTERVAL;VALUE=DURATION:PT1H
X-Robots-Tag:noindex
X-PUBLISHED-TTL:PT1H
BEGIN:VTIMEZONE
TZID:America/Sao_Paulo
BEGIN:STANDARD
TZOFFSETFROM:-0300
TZOFFSETTO:-0300
TZNAME:-03
DTSTART:20240101T000000
END:STANDARD
END:VTIMEZONE
BEGIN:VEVENT
DTSTART;TZID=America/Sao_Paulo:20251109T090000
DTEND;TZID=America/Sao_Paulo:20251109T170000
DTSTAMP:20260420T021627
CREATED:20250823T111019Z
LAST-MODIFIED:20250823T111019Z
UID:2275-1762678800-1762707600@qualitividacursos.com.br
SUMMARY:Curso de moxaterapia
DESCRIPTION:Se você busca expandir seus conhecimentos em terapias holísticas e complementares\, o Curso de Moxabustão é um complemento essencial para agregar ao seu repertório.\nNeste curso você irá adquirir conhecimentos de uma prática ancestral para promover saúde e equilíbrio. \nFundamentos da Moxabustão\, Técnicas de Aplicação\, Integração com a Medicina Tradicional Chinesa e Aplicações Terapêuticas Avançadas \nDia 09/11 –  das 9h às 17h
URL:https://qualitividacursos.com.br/programacao/curso-de-moxaterapia/
ATTACH;FMTTYPE=image/png:https://qualitividacursos.com.br/wp-content/uploads/2024/04/10-Moxabustao.png
END:VEVENT
END:VCALENDAR