BEGIN:VCALENDAR
VERSION:2.0
PRODID:-//Qualiti Vida Studio e Cursos - ECPv6.15.20//NONSGML v1.0//EN
CALSCALE:GREGORIAN
METHOD:PUBLISH
X-ORIGINAL-URL:https://qualitividacursos.com.br
X-WR-CALDESC:Eventos para Qualiti Vida Studio e Cursos
REFRESH-INTERVAL;VALUE=DURATION:PT1H
X-Robots-Tag:noindex
X-PUBLISHED-TTL:PT1H
BEGIN:VTIMEZONE
TZID:America/Sao_Paulo
BEGIN:STANDARD
TZOFFSETFROM:-0300
TZOFFSETTO:-0300
TZNAME:-03
DTSTART:20250101T000000
END:STANDARD
END:VTIMEZONE
BEGIN:VEVENT
DTSTART;TZID=America/Sao_Paulo:20260307T090000
DTEND;TZID=America/Sao_Paulo:20260329T170000
DTSTAMP:20260419T175726
CREATED:20260224T230347Z
LAST-MODIFIED:20260224T230347Z
UID:2856-1772874000-1774803600@qualitividacursos.com.br
SUMMARY:Curso livre Intensivo de Massoterapia - Turma 2
DESCRIPTION:Formação Prática em Técnicas de Massagens Terapêuticas. \nO Curso Livre Intensivo de Massoterapia foi desenvolvido para pessoas interessadas em ingressar na área do bem-estar\, saúde e terapias manuais. Com foco em técnicas de massagens terapêuticas\, o curso proporciona uma formação abrangente\, aliando teoria e prática para capacitar profissionais aptos a oferecer atendimentos qualificados. \n  \nDias 07 a 29/03 – horário das 09h às 17h\nEste curso tem duração de 4 finais de semana consecutivos \nInvestimento do curso é de R$ 1.725\,00\, podendo ser parcelado em até 10 vezes c/ Juros no cartão de crédito.\nO material didático básico está incluso.
URL:https://qualitividacursos.com.br/programacao/curso-livre-intensivo-de-massoterapia-turma-2/
ATTACH;FMTTYPE=image/jpeg:https://qualitividacursos.com.br/wp-content/uploads/2025/12/Curso-Livre-Intensivo-de-Massoterapia-e1766047804677.jpg
END:VEVENT
BEGIN:VEVENT
DTSTART;TZID=America/Sao_Paulo:20260314T090000
DTEND;TZID=America/Sao_Paulo:20260315T170000
DTSTAMP:20260419T175726
CREATED:20251218T093927Z
LAST-MODIFIED:20260124T201159Z
UID:2779-1773478800-1773594000@qualitividacursos.com.br
SUMMARY:Curso de Drenagem Linfática Manual
DESCRIPTION:Curso de Drenagem Linfática Manual \nA drenagem linfática manual (DLM) é uma técnica de massagem suave e ritmada\, que tem como principal objetivo estimular o funcionamento do sistema linfático\, responsável por eliminar o excesso de líquidos\, toxinas\, resíduos metabólicos e impurezas do organismo. \nDias 14 e 15/03 – horário das 09h às 17h\nInvestimento: :$500\,00 ou 5x com juros\n \n 
URL:https://qualitividacursos.com.br/programacao/curso-de-drenagem-linfatica-manual-2/
ATTACH;FMTTYPE=image/jpeg:https://qualitividacursos.com.br/wp-content/uploads/2025/05/Drenagem-Linfatica.jpg
END:VEVENT
BEGIN:VEVENT
DTSTART;TZID=America/Sao_Paulo:20260315T090000
DTEND;TZID=America/Sao_Paulo:20260315T170000
DTSTAMP:20260419T175726
CREATED:20251218T094110Z
LAST-MODIFIED:20260124T201223Z
UID:2783-1773565200-1773594000@qualitividacursos.com.br
SUMMARY:Curso de Ventosaterapia
DESCRIPTION:Curso de Ventosaterapia \nUtilizando copos de vidro ou acrílico que criam vácuo na pele\, essa prática visa promover a circulação sanguínea\, aliviar tensões musculares e estimular a energia vital do corpo. \nDia 15/03– horário das 09h às 17h\nInvestimento: R$350\,00 ou 5x com juros\n \n  \n  \n 
URL:https://qualitividacursos.com.br/programacao/curso-de-ventosaterapia-4/
ATTACH;FMTTYPE=image/png:https://qualitividacursos.com.br/wp-content/uploads/2024/04/3-Curso-de-Ventosaterapia.png
END:VEVENT
BEGIN:VEVENT
DTSTART;TZID=America/Sao_Paulo:20260321T090000
DTEND;TZID=America/Sao_Paulo:20260322T170000
DTSTAMP:20260419T175726
CREATED:20260124T202418Z
LAST-MODIFIED:20260124T202418Z
UID:2843-1774083600-1774198800@qualitividacursos.com.br
SUMMARY:Curso de Auriculoterapia -
DESCRIPTION:Curso de auriculoterapia \nEste curso irá capacitar os alunos a desvendar o pavilhão auricular (mapa da orelha) e aplicar técnicas específicas para aliviar dores e promover equilíbrio tanto físico quanto emocional. Este curso oferece uma imersão profunda na prática curativa da auriculoterapia chinesa\, conectando os pontos entre a orelha e o bem-estar global. \ndias 21 e 22/03 – das 9h às 17h\nInvestimento: R$440\,00 ou 5x com juros  \n 
URL:https://qualitividacursos.com.br/programacao/curso-de-auriculoterapia-2/
ATTACH;FMTTYPE=image/png:https://qualitividacursos.com.br/wp-content/uploads/2024/04/curso-Auriculoterapia-chinesa.png
END:VEVENT
BEGIN:VEVENT
DTSTART;TZID=America/Sao_Paulo:20260328T090000
DTEND;TZID=America/Sao_Paulo:20260329T170000
DTSTAMP:20260419T175726
CREATED:20240812T115553Z
LAST-MODIFIED:20260124T202103Z
UID:1629-1774688400-1774803600@qualitividacursos.com.br
SUMMARY:Curso de Aromaterapia
DESCRIPTION:Curso de Aromaterapia \nNosso curso é ministrado por uma profissional experiente em aromaterapia clínica e química\, com mais de 18 anos de atuação no campo. Aqui na Qualiti Vida\, estamos comprometidos em fornecer uma educação abrangente e prática para aqueles que desejam explorar os benefícios terapêuticos dos óleos essenciais e extratos botânicos. \nDia 28 e 29/03 –\n28 das 09h às 17h e 29 das 09h às 13h\nInvestimento: :$493\,00 ou 5x com juros\n \n 
URL:https://qualitividacursos.com.br/programacao/curso-de-aromaterapia-3/
ATTACH;FMTTYPE=image/png:https://qualitividacursos.com.br/wp-content/uploads/2024/04/1-Curso-de-Aromaterapia.png
END:VEVENT
END:VCALENDAR